Package: mzR Version: 2.40.0 Command: F:\biocbuild\bbs-3.20-bioc\R\bin\R.exe CMD check --no-multiarch --install=check:mzR.install-out.txt --library=F:\biocbuild\bbs-3.20-bioc\R\library --no-vignettes --timings mzR_2.40.0.tar.gz StartedAt: 2025-01-31 04:27:41 -0500 (Fri, 31 Jan 2025) EndedAt: 2025-01-31 04:32:17 -0500 (Fri, 31 Jan 2025) EllapsedTime: 275.3 seconds RetCode: 0 Status: WARNINGS CheckDir: mzR.Rcheck Warnings: 2