Package: mzR Version: 2.40.0 Command: /home/biocbuild/R/R/bin/R CMD build --keep-empty-dirs --no-resave-data mzR StartedAt: 2025-01-31 01:17:05 -0000 (Fri, 31 Jan 2025) EndedAt: 2025-01-31 01:30:46 -0000 (Fri, 31 Jan 2025) EllapsedTime: 820.8 seconds RetCode: 0 Status: OK PackageFile: mzR_2.40.0.tar.gz PackageFileSize: 7.406 MiB