Package: mzR Version: 2.40.0 Command: /home/biocbuild/R/R/bin/R CMD INSTALL mzR StartedAt: 2025-01-30 20:11:39 -0000 (Thu, 30 Jan 2025) EndedAt: 2025-01-30 20:23:46 -0000 (Thu, 30 Jan 2025) EllapsedTime: 726.2 seconds RetCode: 0 Status: OK