Package: nanotatoR Version: 1.22.0 Command: /Library/Frameworks/R.framework/Resources/bin/R CMD build --keep-empty-dirs --no-resave-data nanotatoR StartedAt: 2025-02-04 04:33:48 -0500 (Tue, 04 Feb 2025) EndedAt: 2025-02-04 04:33:51 -0500 (Tue, 04 Feb 2025) EllapsedTime: 2.3 seconds RetCode: 1 Status: ERROR PackageFile: None PackageFileSize: NA