Package: nanotatoR
Version: 1.22.0
Command: /home/biocbuild/R/R/bin/R CMD INSTALL nanotatoR
StartedAt: 2024-11-19 21:40:46 -0000 (Tue, 19 Nov 2024)
EndedAt: 2024-11-19 21:40:47 -0000 (Tue, 19 Nov 2024)
EllapsedTime: 0.3 seconds
RetCode: 1
Status: ERROR