Package: nanotatoR Version: 1.22.0 Command: /home/biocbuild/bbs-3.20-bioc/R/bin/R CMD build --keep-empty-dirs --no-resave-data --md5 nanotatoR StartedAt: 2025-02-03 18:27:45 -0500 (Mon, 03 Feb 2025) EndedAt: 2025-02-03 18:27:46 -0500 (Mon, 03 Feb 2025) EllapsedTime: 1.0 seconds RetCode: 1 Status: ERROR PackageFile: None PackageFileSize: NA