Package: nanotatoR Version: 1.22.0 Command: /home/biocbuild/bbs-3.20-bioc/R/bin/R CMD INSTALL nanotatoR StartedAt: 2025-02-03 16:16:32 -0500 (Mon, 03 Feb 2025) EndedAt: 2025-02-03 16:16:32 -0500 (Mon, 03 Feb 2025) EllapsedTime: 0.2 seconds RetCode: 1 Status: ERROR