Package: nanotatoR Version: 1.22.0 Command: /home/biocbuild/R/R/bin/R CMD build --keep-empty-dirs --no-resave-data nanotatoR StartedAt: 2025-02-04 01:21:22 -0000 (Tue, 04 Feb 2025) EndedAt: 2025-02-04 01:21:23 -0000 (Tue, 04 Feb 2025) EllapsedTime: 1.0 seconds RetCode: 1 Status: ERROR PackageFile: None PackageFileSize: NA