Package: nanotatoR Version: 1.22.0 Command: /home/biocbuild/R/R/bin/R CMD INSTALL nanotatoR StartedAt: 2025-02-03 21:31:39 -0000 (Mon, 03 Feb 2025) EndedAt: 2025-02-03 21:31:40 -0000 (Mon, 03 Feb 2025) EllapsedTime: 0.3 seconds RetCode: 1 Status: ERROR