Package: ncGTW Version: 1.20.0 Command: /Library/Frameworks/R.framework/Resources/bin/R CMD check --install=check:ncGTW.install-out.txt --library=/Library/Frameworks/R.framework/Resources/library --no-vignettes --timings ncGTW_1.20.0.tar.gz StartedAt: 2025-02-05 03:45:36 -0500 (Wed, 05 Feb 2025) EndedAt: 2025-02-05 03:55:27 -0500 (Wed, 05 Feb 2025) EllapsedTime: 590.9 seconds RetCode: 0 Status: OK CheckDir: ncGTW.Rcheck Warnings: 0