Package: ncGTW Version: 1.20.0 Command: /Library/Frameworks/R.framework/Resources/bin/R CMD INSTALL ncGTW StartedAt: 2025-02-03 16:57:31 -0500 (Mon, 03 Feb 2025) EndedAt: 2025-02-03 16:58:42 -0500 (Mon, 03 Feb 2025) EllapsedTime: 71.5 seconds RetCode: 0 Status: OK