Package: ncGTW Version: 1.20.0 Command: rm -rf ncGTW.buildbin-libdir && mkdir ncGTW.buildbin-libdir && /Users/biocbuild/BBS/utils/build-universal.sh ncGTW_1.20.0.tar.gz /Library/Frameworks/R.framework/Resources/bin/R ncGTW.buildbin-libdir StartedAt: 2025-02-04 13:37:07 -0500 (Tue, 04 Feb 2025) EndedAt: 2025-02-04 13:40:38 -0500 (Tue, 04 Feb 2025) EllapsedTime: 210.8 seconds RetCode: 0 Status: OK PackageFile: ncGTW_1.20.0.tgz PackageFileSize: 2.11 MiB