Package: ncGTW Version: 1.20.0 Command: /Library/Frameworks/R.framework/Resources/bin/R CMD check --install=check:ncGTW.install-out.txt --library=/Library/Frameworks/R.framework/Resources/library --no-vignettes --timings ncGTW_1.20.0.tar.gz StartedAt: 2025-02-04 07:08:24 -0500 (Tue, 04 Feb 2025) EndedAt: 2025-02-04 07:23:12 -0500 (Tue, 04 Feb 2025) EllapsedTime: 887.6 seconds RetCode: 0 Status: OK CheckDir: ncGTW.Rcheck Warnings: 0