Package: ncGTW
Version: 1.19.0
Command: F:\biocbuild\bbs-3.20-bioc\R\bin\R.exe CMD INSTALL ncGTW
StartedAt: 2024-06-09 16:28:28 -0400 (Sun, 09 Jun 2024)
EndedAt: 2024-06-09 16:30:04 -0400 (Sun, 09 Jun 2024)
EllapsedTime: 96.8 seconds
RetCode: 0
Status: OK