Package: ncGTW Version: 1.20.0 Command: rm -rf ncGTW.buildbin-libdir && mkdir ncGTW.buildbin-libdir && F:\biocbuild\bbs-3.20-bioc\R\bin\R.exe CMD INSTALL --build --library=ncGTW.buildbin-libdir ncGTW_1.20.0.tar.gz StartedAt: 2025-02-04 09:03:25 -0500 (Tue, 04 Feb 2025) EndedAt: 2025-02-04 09:04:49 -0500 (Tue, 04 Feb 2025) EllapsedTime: 84.7 seconds RetCode: 0 Status: OK PackageFile: ncGTW_1.20.0.zip PackageFileSize: 1.74 MiB