Package: ncGTW Version: 1.20.0 Command: chmod a+r ncGTW -R && F:\biocbuild\bbs-3.20-bioc\R\bin\R.exe CMD build --keep-empty-dirs --no-resave-data ncGTW StartedAt: 2025-02-03 20:46:53 -0500 (Mon, 03 Feb 2025) EndedAt: 2025-02-03 20:51:29 -0500 (Mon, 03 Feb 2025) EllapsedTime: 275.2 seconds RetCode: 0 Status: OK PackageFile: ncGTW_1.20.0.tar.gz PackageFileSize: 1.646 MiB