Package: ncGTW Version: 1.20.0 Command: /home/biocbuild/R/R/bin/R CMD build --keep-empty-dirs --no-resave-data ncGTW StartedAt: 2025-02-04 01:21:43 -0000 (Tue, 04 Feb 2025) EndedAt: 2025-02-04 01:25:22 -0000 (Tue, 04 Feb 2025) EllapsedTime: 219.1 seconds RetCode: 0 Status: OK PackageFile: ncGTW_1.20.0.tar.gz PackageFileSize: 1.862 MiB