Package: ncRNAtools Version: 1.16.0 Command: /Library/Frameworks/R.framework/Resources/bin/R CMD INSTALL ncRNAtools StartedAt: 2025-02-03 15:35:56 -0500 (Mon, 03 Feb 2025) EndedAt: 2025-02-03 15:36:04 -0500 (Mon, 03 Feb 2025) EllapsedTime: 7.8 seconds RetCode: 0 Status: OK