Package: ncRNAtools Version: 1.16.0 Command: /home/biocbuild/R/R/bin/R CMD INSTALL ncRNAtools StartedAt: 2025-02-03 20:31:52 -0000 (Mon, 03 Feb 2025) EndedAt: 2025-02-03 20:32:08 -0000 (Mon, 03 Feb 2025) EllapsedTime: 15.5 seconds RetCode: 0 Status: OK