Package: ncdfFlow Version: 2.52.1 Command: /Library/Frameworks/R.framework/Resources/bin/R CMD build --keep-empty-dirs --no-resave-data ncdfFlow StartedAt: 2025-02-18 04:32:33 -0500 (Tue, 18 Feb 2025) EndedAt: 2025-02-18 04:33:08 -0500 (Tue, 18 Feb 2025) EllapsedTime: 35.2 seconds RetCode: 0 Status: OK PackageFile: ncdfFlow_2.52.1.tar.gz PackageFileSize: 198.7 <A href="http://en.wikipedia.org/wiki/KiB" target="_blank">KiB</A>