Package: ncdfFlow Version: 2.52.1 Command: rm -rf ncdfFlow.buildbin-libdir && mkdir ncdfFlow.buildbin-libdir && /Users/biocbuild/BBS/utils/build-universal.sh ncdfFlow_2.52.1.tar.gz /Library/Frameworks/R.framework/Resources/bin/R ncdfFlow.buildbin-libdir StartedAt: 2025-02-04 13:36:56 -0500 (Tue, 04 Feb 2025) EndedAt: 2025-02-04 13:37:48 -0500 (Tue, 04 Feb 2025) EllapsedTime: 52.6 seconds RetCode: 0 Status: OK PackageFile: ncdfFlow_2.52.1.tgz PackageFileSize: 2.039 MiB