Package: ncdfFlow Version: 2.52.1 Command: /Library/Frameworks/R.framework/Resources/bin/R CMD check --install=check:ncdfFlow.install-out.txt --library=/Library/Frameworks/R.framework/Resources/library --no-vignettes --timings ncdfFlow_2.52.1.tar.gz StartedAt: 2025-02-04 07:08:00 -0500 (Tue, 04 Feb 2025) EndedAt: 2025-02-04 07:11:01 -0500 (Tue, 04 Feb 2025) EllapsedTime: 180.9 seconds RetCode: 0 Status: WARNINGS CheckDir: ncdfFlow.Rcheck Warnings: 3