Package: nearBynding Version: 1.16.0 Command: rm -rf nearBynding.buildbin-libdir && mkdir nearBynding.buildbin-libdir && /Users/biocbuild/BBS/utils/build-universal.sh nearBynding_1.16.0.tar.gz /Library/Frameworks/R.framework/Resources/bin/R nearBynding.buildbin-libdir StartedAt: 2025-02-05 16:55:48 -0500 (Wed, 05 Feb 2025) EndedAt: 2025-02-05 16:56:38 -0500 (Wed, 05 Feb 2025) EllapsedTime: 49.7 seconds RetCode: 0 Status: OK PackageFile: nearBynding_1.16.0.tgz PackageFileSize: 3.213 MiB