Package: nearBynding Version: 1.16.0 Command: /Library/Frameworks/R.framework/Resources/bin/R CMD build --keep-empty-dirs --no-resave-data nearBynding StartedAt: 2025-02-04 04:36:27 -0500 (Tue, 04 Feb 2025) EndedAt: 2025-02-04 04:38:12 -0500 (Tue, 04 Feb 2025) EllapsedTime: 105.7 seconds RetCode: 0 Status: OK PackageFile: nearBynding_1.16.0.tar.gz PackageFileSize: 3.342 MiB