Package: nearBynding Version: 1.16.0 Command: rm -rf nearBynding.buildbin-libdir && mkdir nearBynding.buildbin-libdir && F:\biocbuild\bbs-3.20-bioc\R\bin\R.exe CMD INSTALL --build --library=nearBynding.buildbin-libdir nearBynding_1.16.0.tar.gz StartedAt: 2025-02-04 09:03:46 -0500 (Tue, 04 Feb 2025) EndedAt: 2025-02-04 09:04:53 -0500 (Tue, 04 Feb 2025) EllapsedTime: 66.8 seconds RetCode: 0 Status: OK PackageFile: nearBynding_1.16.0.zip PackageFileSize: 3.178 MiB