Package: nearBynding Version: 1.16.0 Command: F:\biocbuild\bbs-3.20-bioc\R\bin\R.exe CMD check --no-multiarch --install=check:nearBynding.install-out.txt --library=F:\biocbuild\bbs-3.20-bioc\R\library --no-vignettes --timings nearBynding_1.16.0.tar.gz StartedAt: 2025-02-04 04:21:30 -0500 (Tue, 04 Feb 2025) EndedAt: 2025-02-04 04:27:51 -0500 (Tue, 04 Feb 2025) EllapsedTime: 380.7 seconds RetCode: 0 Status: OK CheckDir: nearBynding.Rcheck Warnings: 0