##############################################################################
##############################################################################
###
### Running command:
###
###   /home/biocbuild/bbs-3.20-bioc/R/bin/R CMD INSTALL netOmics
###
##############################################################################
##############################################################################


* installing to library ‘/media/volume/teran2_disk/biocbuild/bbs-3.20-bioc/R/site-library’
* installing *source* package ‘netOmics’ ...
** using staged installation
** R
** data
** inst
** byte-compile and prepare package for lazy loading
** help
*** installing help indices
** building package indices
** installing vignettes
** testing if installed package can be loaded from temporary location
Warning in fun(libname, pkgname) :
  Package 'netOmics' is deprecated and will be removed from Bioconductor
  version 3.21
** testing if installed package can be loaded from final location
Warning in fun(libname, pkgname) :
  Package 'netOmics' is deprecated and will be removed from Bioconductor
  version 3.21
** testing if installed package keeps a record of temporary installation path
* DONE (netOmics)