Package: netSmooth Version: 1.26.0 Command: /Library/Frameworks/R.framework/Resources/bin/R CMD INSTALL netSmooth StartedAt: 2025-02-03 17:51:08 -0500 (Mon, 03 Feb 2025) EndedAt: 2025-02-03 17:52:02 -0500 (Mon, 03 Feb 2025) EllapsedTime: 54.8 seconds RetCode: 0 Status: OK