Package: netSmooth
Version: 1.26.0
Command: /Library/Frameworks/R.framework/Resources/bin/R CMD INSTALL netSmooth
StartedAt: 2024-11-19 15:42:45 -0500 (Tue, 19 Nov 2024)
EndedAt: 2024-11-19 15:43:50 -0500 (Tue, 19 Nov 2024)
EllapsedTime: 65.5 seconds
RetCode: 0
Status: OK