Package: netSmooth
Version: 1.25.0
Command: rm -rf netSmooth.buildbin-libdir && mkdir netSmooth.buildbin-libdir && C:\Users\biocbuild\bbs-3.20-bioc\R\bin\R.exe CMD INSTALL --build --library=netSmooth.buildbin-libdir netSmooth_1.25.0.tar.gz
StartedAt: 2024-07-16 06:30:22 -0400 (Tue, 16 Jul 2024)
EndedAt: 2024-07-16 06:31:14 -0400 (Tue, 16 Jul 2024)
EllapsedTime: 52.1 seconds
RetCode: 0
Status: OK
PackageFile: netSmooth_1.25.0.zip
PackageFileSize: 3.719 <A href="http://en.wikipedia.org/wiki/MiB" target="_blank">MiB</A>