Package: netSmooth Version: 1.26.0 Command: rm -rf netSmooth.buildbin-libdir && mkdir netSmooth.buildbin-libdir && F:\biocbuild\bbs-3.20-bioc\R\bin\R.exe CMD INSTALL --build --library=netSmooth.buildbin-libdir netSmooth_1.26.0.tar.gz StartedAt: 2025-02-04 09:04:08 -0500 (Tue, 04 Feb 2025) EndedAt: 2025-02-04 09:05:16 -0500 (Tue, 04 Feb 2025) EllapsedTime: 67.4 seconds RetCode: 0 Status: OK PackageFile: netSmooth_1.26.0.zip PackageFileSize: 3.719 MiB