Package: netSmooth Version: 1.26.0 Command: F:\biocbuild\bbs-3.20-bioc\R\bin\R.exe CMD INSTALL netSmooth StartedAt: 2025-02-03 16:57:20 -0500 (Mon, 03 Feb 2025) EndedAt: 2025-02-03 16:58:20 -0500 (Mon, 03 Feb 2025) EllapsedTime: 60.0 seconds RetCode: 0 Status: OK