Package: netZooR Version: 1.10.0 Command: /Library/Frameworks/R.framework/Resources/bin/R CMD build --keep-empty-dirs --no-resave-data netZooR StartedAt: 2025-01-31 04:34:53 -0500 (Fri, 31 Jan 2025) EndedAt: 2025-01-31 04:36:44 -0500 (Fri, 31 Jan 2025) EllapsedTime: 110.6 seconds RetCode: 0 Status: OK PackageFile: netZooR_1.10.0.tar.gz PackageFileSize: 3.115 MiB