Package: netZooR Version: 1.10.0 Command: /Library/Frameworks/R.framework/Resources/bin/R CMD INSTALL netZooR StartedAt: 2025-02-03 18:01:06 -0500 (Mon, 03 Feb 2025) EndedAt: 2025-02-03 18:02:15 -0500 (Mon, 03 Feb 2025) EllapsedTime: 69.2 seconds RetCode: 0 Status: OK