Package: netZooR Version: 1.10.0 Command: /Library/Frameworks/R.framework/Resources/bin/R CMD build --keep-empty-dirs --no-resave-data netZooR StartedAt: 2025-02-03 20:51:54 -0500 (Mon, 03 Feb 2025) EndedAt: 2025-02-03 20:56:11 -0500 (Mon, 03 Feb 2025) EllapsedTime: 256.5 seconds RetCode: 0 Status: OK PackageFile: netZooR_1.10.0.tar.gz PackageFileSize: 3.116 MiB