Package: netZooR Version: 1.10.0 Command: /home/biocbuild/bbs-3.20-bioc/R/bin/R CMD build --keep-empty-dirs --no-resave-data --md5 netZooR StartedAt: 2025-01-30 18:20:42 -0500 (Thu, 30 Jan 2025) EndedAt: 2025-01-30 18:22:56 -0500 (Thu, 30 Jan 2025) EllapsedTime: 134.2 seconds RetCode: 0 Status: OK PackageFile: netZooR_1.10.0.tar.gz PackageFileSize: 3.088 MiB