Package: netZooR Version: 1.10.0 Command: /home/biocbuild/bbs-3.20-bioc/R/bin/R CMD check --install=check:netZooR.install-out.txt --library=/home/biocbuild/bbs-3.20-bioc/R/site-library --timings netZooR_1.10.0.tar.gz StartedAt: 2025-01-31 00:31:48 -0500 (Fri, 31 Jan 2025) EndedAt: 2025-01-31 00:40:00 -0500 (Fri, 31 Jan 2025) EllapsedTime: 491.5 seconds RetCode: 0 Status: OK CheckDir: netZooR.Rcheck Warnings: 0