Package: netZooR Version: 1.10.0 Command: rm -rf netZooR.buildbin-libdir && mkdir netZooR.buildbin-libdir && F:\biocbuild\bbs-3.20-bioc\R\bin\R.exe CMD INSTALL --build --library=netZooR.buildbin-libdir netZooR_1.10.0.tar.gz StartedAt: 2025-02-04 09:04:11 -0500 (Tue, 04 Feb 2025) EndedAt: 2025-02-04 09:05:41 -0500 (Tue, 04 Feb 2025) EllapsedTime: 89.2 seconds RetCode: 0 Status: OK PackageFile: netZooR_1.10.0.zip PackageFileSize: 3.6 MiB