Package: netboost Version: 2.14.0 Command: /Library/Frameworks/R.framework/Resources/bin/R CMD check --install=check:netboost.install-out.txt --library=/Library/Frameworks/R.framework/Resources/library --no-vignettes --timings netboost_2.14.0.tar.gz StartedAt: 2025-02-05 03:51:58 -0500 (Wed, 05 Feb 2025) EndedAt: 2025-02-05 03:55:28 -0500 (Wed, 05 Feb 2025) EllapsedTime: 209.7 seconds RetCode: 0 Status: WARNINGS CheckDir: netboost.Rcheck Warnings: 1