Package: netboost Version: 2.14.0 Command: rm -rf netboost.buildbin-libdir && mkdir netboost.buildbin-libdir && /Users/biocbuild/BBS/utils/build-universal.sh netboost_2.14.0.tar.gz /Library/Frameworks/R.framework/Resources/bin/R netboost.buildbin-libdir StartedAt: 2025-02-04 13:37:42 -0500 (Tue, 04 Feb 2025) EndedAt: 2025-02-04 13:40:43 -0500 (Tue, 04 Feb 2025) EllapsedTime: 181.2 seconds RetCode: 0 Status: OK PackageFile: netboost_2.14.0.tgz PackageFileSize: 1.126 MiB