Package: netboost Version: 2.14.0 Command: /home/biocbuild/bbs-3.20-bioc/R/bin/R CMD INSTALL netboost StartedAt: 2025-02-03 15:49:52 -0500 (Mon, 03 Feb 2025) EndedAt: 2025-02-03 15:50:40 -0500 (Mon, 03 Feb 2025) EllapsedTime: 47.7 seconds RetCode: 0 Status: OK