Package: netboost Version: 2.14.0 Command: /home/biocbuild/R/R/bin/R CMD build --keep-empty-dirs --no-resave-data netboost StartedAt: 2025-02-04 01:24:07 -0000 (Tue, 04 Feb 2025) EndedAt: 2025-02-04 01:25:19 -0000 (Tue, 04 Feb 2025) EllapsedTime: 72.1 seconds RetCode: 1 Status: ERROR PackageFile: None PackageFileSize: NA