Package: netboost Version: 2.14.0 Command: /home/biocbuild/R/R/bin/R CMD INSTALL netboost StartedAt: 2025-02-03 21:04:08 -0000 (Mon, 03 Feb 2025) EndedAt: 2025-02-03 21:05:07 -0000 (Mon, 03 Feb 2025) EllapsedTime: 59.8 seconds RetCode: 0 Status: OK