Package: nethet Version: 1.38.0 Command: /Library/Frameworks/R.framework/Resources/bin/R CMD build --keep-empty-dirs --no-resave-data nethet StartedAt: 2025-02-03 20:50:18 -0500 (Mon, 03 Feb 2025) EndedAt: 2025-02-03 20:56:47 -0500 (Mon, 03 Feb 2025) EllapsedTime: 388.5 seconds RetCode: 0 Status: OK PackageFile: nethet_1.38.0.tar.gz PackageFileSize: 704.9 KiB