Package: nethet Version: 1.38.0 Command: /Library/Frameworks/R.framework/Resources/bin/R CMD check --install=check:nethet.install-out.txt --library=/Library/Frameworks/R.framework/Resources/library --no-vignettes --timings nethet_1.38.0.tar.gz StartedAt: 2025-02-04 07:11:49 -0500 (Tue, 04 Feb 2025) EndedAt: 2025-02-04 07:17:20 -0500 (Tue, 04 Feb 2025) EllapsedTime: 331.0 seconds RetCode: 0 Status: WARNINGS CheckDir: nethet.Rcheck Warnings: 1