Package: nethet Version: 1.38.0 Command: /Library/Frameworks/R.framework/Resources/bin/R CMD INSTALL nethet StartedAt: 2025-02-03 16:51:15 -0500 (Mon, 03 Feb 2025) EndedAt: 2025-02-03 16:51:50 -0500 (Mon, 03 Feb 2025) EllapsedTime: 34.6 seconds RetCode: 0 Status: OK