Package: nethet Version: 1.38.0 Command: /home/biocbuild/bbs-3.20-bioc/R/bin/R CMD INSTALL nethet StartedAt: 2025-02-03 16:10:31 -0500 (Mon, 03 Feb 2025) EndedAt: 2025-02-03 16:10:46 -0500 (Mon, 03 Feb 2025) EllapsedTime: 15.1 seconds RetCode: 0 Status: OK