Package: nethet
Version: 1.37.0
Command: C:\Users\biocbuild\bbs-3.20-bioc\R\bin\R.exe CMD check --no-multiarch --install=check:nethet.install-out.txt --library=C:\Users\biocbuild\bbs-3.20-bioc\R\library --no-vignettes --timings nethet_1.37.0.tar.gz
StartedAt: 2024-07-16 02:17:16 -0400 (Tue, 16 Jul 2024)
EndedAt: 2024-07-16 02:20:38 -0400 (Tue, 16 Jul 2024)
EllapsedTime: 201.7 seconds
RetCode: 0
Status: WARNINGS
CheckDir: nethet.Rcheck
Warnings: 1