Package: nethet Version: 1.38.0 Command: /home/biocbuild/R/R/bin/R CMD build --keep-empty-dirs --no-resave-data nethet StartedAt: 2025-02-04 01:24:19 -0000 (Tue, 04 Feb 2025) EndedAt: 2025-02-04 01:28:24 -0000 (Tue, 04 Feb 2025) EllapsedTime: 244.4 seconds RetCode: 0 Status: OK PackageFile: nethet_1.38.0.tar.gz PackageFileSize: 689.8 KiB