Package: nethet Version: 1.38.0 Command: /home/biocbuild/R/R/bin/R CMD check --install=check:nethet.install-out.txt --library=/home/biocbuild/R/R/site-library --no-vignettes --timings nethet_1.38.0.tar.gz StartedAt: 2025-02-04 09:20:31 -0000 (Tue, 04 Feb 2025) EndedAt: 2025-02-04 09:24:08 -0000 (Tue, 04 Feb 2025) EllapsedTime: 217.3 seconds RetCode: 0 Status: WARNINGS CheckDir: nethet.Rcheck Warnings: 1